BEGIN:VCALENDAR
VERSION:2.0
PRODID:-//Tukios.com/
BEGIN:VEVENT
UID:cd12a3b5-8cce-4bca-89e1-565499f6a6ff@www.oklahomacitycremation.com
DTSTAMP:20260420T174809Z
DTSTART:20260502T180000Z
DTEND:20260502T200000Z
SUMMARY:Celebration of Life
DESCRIPTION:
URL:https://www.oklahomacitycremation.com/obituaries/diana-tunnell
LOCATION: 129 Deer Creek Road  Edmond OK 73012
GEO:35.6733438;-97.6248181
END:VEVENT
END:VCALENDAR